BEGIN:VCALENDAR
VERSION:2.0
PRODID:-//CCC - ECPv6.11.2//NONSGML v1.0//EN
CALSCALE:GREGORIAN
METHOD:PUBLISH
X-WR-CALNAME:CCC
X-ORIGINAL-URL:https://news.ccc.edu
X-WR-CALDESC:Events for CCC
REFRESH-INTERVAL;VALUE=DURATION:PT1H
X-Robots-Tag:noindex
X-PUBLISHED-TTL:PT1H
BEGIN:VTIMEZONE
TZID:America/Chicago
BEGIN:DAYLIGHT
TZOFFSETFROM:-0600
TZOFFSETTO:-0500
TZNAME:CDT
DTSTART:20240310T080000
END:DAYLIGHT
BEGIN:STANDARD
TZOFFSETFROM:-0500
TZOFFSETTO:-0600
TZNAME:CST
DTSTART:20241103T070000
END:STANDARD
END:VTIMEZONE
BEGIN:VEVENT
DTSTART;TZID=America/Chicago:20241203T100000
DTEND;TZID=America/Chicago:20241203T130000
DTSTAMP:20260419T080040
CREATED:20240828T174332Z
LAST-MODIFIED:20240828T174332Z
UID:10002106-1733220000-1733230800@news.ccc.edu
SUMMARY:Olive-Harvey: East-West University Table Visit
DESCRIPTION:
URL:https://news.ccc.edu/event/olive-harvey-east-west-university-table-visit-12/
CATEGORIES:Olive-Harvey
ATTACH;FMTTYPE=image/png:https://news.ccc.edu/app/uploads/Transfer_Table_Per-College_OH.png
END:VEVENT
BEGIN:VEVENT
DTSTART;TZID=America/Chicago:20241203T100000
DTEND;TZID=America/Chicago:20241203T130000
DTSTAMP:20260419T080040
CREATED:20241030T210105Z
LAST-MODIFIED:20241030T210105Z
UID:10002626-1733220000-1733230800@news.ccc.edu
SUMMARY:Olive-Harvey: NEIU Table Visit
DESCRIPTION:
URL:https://news.ccc.edu/event/olive-harvey-neiu-table-visit/
CATEGORIES:Olive-Harvey
ATTACH;FMTTYPE=image/png:https://news.ccc.edu/app/uploads/Transfer_Table_Per-College_OH.png
END:VEVENT
BEGIN:VEVENT
DTSTART;TZID=America/Chicago:20241204T100000
DTEND;TZID=America/Chicago:20241204T110000
DTSTAMP:20260419T080040
CREATED:20240829T194216Z
LAST-MODIFIED:20240829T194216Z
UID:10002149-1733306400-1733310000@news.ccc.edu
SUMMARY:Partners in Education Info Session
DESCRIPTION:
URL:https://news.ccc.edu/event/partners-in-education-info-session-39/
CATEGORIES:Harold Washington,Harry S Truman,Kennedy-King,Malcolm X,Olive-Harvey,Richard J. Daley,Wilbur Wright
ATTACH;FMTTYPE=image/jpeg:https://news.ccc.edu/app/uploads/CHA-Calendar-Image.jpg
END:VEVENT
BEGIN:VEVENT
DTSTART;TZID=America/Chicago:20241204T100000
DTEND;TZID=America/Chicago:20241204T130000
DTSTAMP:20260419T080040
CREATED:20240828T174318Z
LAST-MODIFIED:20240828T174318Z
UID:10002104-1733306400-1733317200@news.ccc.edu
SUMMARY:Olive-Harvey: Governors State University Dual Degree Program Table Visit
DESCRIPTION:
URL:https://news.ccc.edu/event/olive-harvey-governors-state-university-dual-degree-program-table-visit-35/
CATEGORIES:Olive-Harvey
ATTACH;FMTTYPE=image/png:https://news.ccc.edu/app/uploads/Transfer_Table_Per-College_OH.png
END:VEVENT
BEGIN:VEVENT
DTSTART;TZID=America/Chicago:20241204T100000
DTEND;TZID=America/Chicago:20241204T130000
DTSTAMP:20260419T080040
CREATED:20240828T174320Z
LAST-MODIFIED:20240828T174320Z
UID:10002105-1733306400-1733317200@news.ccc.edu
SUMMARY:Olive-Harvey: Roosevelt University Table Visit
DESCRIPTION:
URL:https://news.ccc.edu/event/olive-harvey-roosevelt-university-table-visit-11/
CATEGORIES:Olive-Harvey
ATTACH;FMTTYPE=image/png:https://news.ccc.edu/app/uploads/Transfer_Table_Per-College_OH.png
END:VEVENT
BEGIN:VEVENT
DTSTART;TZID=America/Chicago:20241204T120000
DTEND;TZID=America/Chicago:20241204T130000
DTSTAMP:20260419T080040
CREATED:20240829T194206Z
LAST-MODIFIED:20240829T194206Z
UID:10002148-1733313600-1733317200@news.ccc.edu
SUMMARY:Partners in Education Info Session
DESCRIPTION:
URL:https://news.ccc.edu/event/partners-in-education-info-session-38/
CATEGORIES:Harold Washington,Harry S Truman,Kennedy-King,Malcolm X,Olive-Harvey,Richard J. Daley,Wilbur Wright
ATTACH;FMTTYPE=image/jpeg:https://news.ccc.edu/app/uploads/CHA-Calendar-Image.jpg
END:VEVENT
BEGIN:VEVENT
DTSTART;TZID=America/Chicago:20241205T100000
DTEND;TZID=America/Chicago:20241205T130000
DTSTAMP:20260419T080040
CREATED:20240823T154453Z
LAST-MODIFIED:20240823T154453Z
UID:10002081-1733392800-1733403600@news.ccc.edu
SUMMARY:Olive-Harvey: Dominican University Table Visit
DESCRIPTION:
URL:https://news.ccc.edu/event/olive-harvey-dominican-university-table-visit-3/
CATEGORIES:Olive-Harvey
ATTACH;FMTTYPE=image/png:https://news.ccc.edu/app/uploads/Transfer_Table_Per-College_OH.png
END:VEVENT
BEGIN:VEVENT
DTSTART;TZID=America/Chicago:20241205T100000
DTEND;TZID=America/Chicago:20241205T130000
DTSTAMP:20260419T080040
CREATED:20240828T174308Z
LAST-MODIFIED:20240828T174308Z
UID:10002103-1733392800-1733403600@news.ccc.edu
SUMMARY:Olive-Harvey: Northeastern Illinois University Table Visit
DESCRIPTION:
URL:https://news.ccc.edu/event/olive-harvey-northeastern-illinois-university-table-visit-12/
CATEGORIES:Olive-Harvey
ATTACH;FMTTYPE=image/png:https://news.ccc.edu/app/uploads/Transfer_Table_Per-College_OH.png
END:VEVENT
BEGIN:VEVENT
DTSTART;TZID=America/Chicago:20241205T100000
DTEND;TZID=America/Chicago:20241205T140000
DTSTAMP:20260419T080040
CREATED:20241113T215301Z
LAST-MODIFIED:20241113T215301Z
UID:10002716-1733392800-1733407200@news.ccc.edu
SUMMARY:Olive-Harvey: Holly Jolly Job Fair
DESCRIPTION:
URL:https://news.ccc.edu/event/olive-harvey-holly-jolly-job-fair/
CATEGORIES:Olive-Harvey
ATTACH;FMTTYPE=image/jpeg:https://news.ccc.edu/app/uploads/OH_Calendar-Image_01.jpg
END:VEVENT
BEGIN:VEVENT
DTSTART;TZID=America/Chicago:20241205T140000
DTEND;TZID=America/Chicago:20241205T160000
DTSTAMP:20260419T080040
CREATED:20241121T225220Z
LAST-MODIFIED:20241121T225220Z
UID:10002746-1733407200-1733414400@news.ccc.edu
SUMMARY:Olive Harvey: Satisfactory Academic Progress Workshop
DESCRIPTION:
URL:https://news.ccc.edu/event/olive-harvey-satisfactory-academic-progress-workshop-3/
CATEGORIES:Olive-Harvey
ATTACH;FMTTYPE=image/jpeg:https://news.ccc.edu/app/uploads/Financial-Aid_Calendar.jpg
END:VEVENT
BEGIN:VEVENT
DTSTART;TZID=America/Chicago:20241210T100000
DTEND;TZID=America/Chicago:20241210T130000
DTSTAMP:20260419T080040
CREATED:20241204T221349Z
LAST-MODIFIED:20241204T221349Z
UID:10002759-1733824800-1733835600@news.ccc.edu
SUMMARY:Olive Harvey: Financial Aid Success Pilot
DESCRIPTION:
URL:https://news.ccc.edu/event/olive-harvey-financial-aid-success-pilot-2/
CATEGORIES:Olive-Harvey
ATTACH;FMTTYPE=image/jpeg:https://news.ccc.edu/app/uploads/Financial-Aid_Calendar.jpg
END:VEVENT
BEGIN:VEVENT
DTSTART;TZID=America/Chicago:20241211T100000
DTEND;TZID=America/Chicago:20241211T110000
DTSTAMP:20260419T080040
CREATED:20240829T194147Z
LAST-MODIFIED:20240829T194147Z
UID:10002147-1733911200-1733914800@news.ccc.edu
SUMMARY:Partners in Education Info Session
DESCRIPTION:
URL:https://news.ccc.edu/event/partners-in-education-info-session-37/
CATEGORIES:Harold Washington,Harry S Truman,Kennedy-King,Malcolm X,Olive-Harvey,Richard J. Daley,Wilbur Wright
ATTACH;FMTTYPE=image/jpeg:https://news.ccc.edu/app/uploads/CHA-Calendar-Image.jpg
END:VEVENT
BEGIN:VEVENT
DTSTART;TZID=America/Chicago:20241211T100000
DTEND;TZID=America/Chicago:20241211T130000
DTSTAMP:20260419T080040
CREATED:20240823T154320Z
LAST-MODIFIED:20240823T154320Z
UID:10002080-1733911200-1733922000@news.ccc.edu
SUMMARY:Olive-Harvey: Governors State University Dual Degree Program Table Visit
DESCRIPTION:
URL:https://news.ccc.edu/event/olive-harvey-governors-state-university-dual-degree-program-table-visit-32/
CATEGORIES:Olive-Harvey
ATTACH;FMTTYPE=image/png:https://news.ccc.edu/app/uploads/Transfer_Table_Per-College_OH.png
END:VEVENT
BEGIN:VEVENT
DTSTART;TZID=America/Chicago:20241211T120000
DTEND;TZID=America/Chicago:20241211T130000
DTSTAMP:20260419T080040
CREATED:20240829T194136Z
LAST-MODIFIED:20240829T194136Z
UID:10002146-1733918400-1733922000@news.ccc.edu
SUMMARY:Partners in Education Info Session
DESCRIPTION:
URL:https://news.ccc.edu/event/partners-in-education-info-session-36/
CATEGORIES:Harold Washington,Harry S Truman,Kennedy-King,Malcolm X,Olive-Harvey,Richard J. Daley,Wilbur Wright
ATTACH;FMTTYPE=image/jpeg:https://news.ccc.edu/app/uploads/CHA-Calendar-Image.jpg
END:VEVENT
BEGIN:VEVENT
DTSTART;TZID=America/Chicago:20241212T100000
DTEND;TZID=America/Chicago:20241212T130000
DTSTAMP:20260419T080040
CREATED:20240823T154123Z
LAST-MODIFIED:20240823T154123Z
UID:10002079-1733997600-1734008400@news.ccc.edu
SUMMARY:Olive-Harvey: National Louis University Table Visit
DESCRIPTION:
URL:https://news.ccc.edu/event/olive-harvey-national-louis-university-table-visit-15/
CATEGORIES:Olive-Harvey
ATTACH;FMTTYPE=image/png:https://news.ccc.edu/app/uploads/Transfer_Table_Per-College_OH.png
END:VEVENT
BEGIN:VEVENT
DTSTART;TZID=America/Chicago:20241212T183000
DTEND;TZID=America/Chicago:20241212T193000
DTSTAMP:20260419T080040
CREATED:20240829T194122Z
LAST-MODIFIED:20240829T194122Z
UID:10002145-1734028200-1734031800@news.ccc.edu
SUMMARY:Partners in Education Info Session
DESCRIPTION:
URL:https://news.ccc.edu/event/partners-in-education-info-session-35/
CATEGORIES:Harold Washington,Harry S Truman,Kennedy-King,Malcolm X,Olive-Harvey,Richard J. Daley,Wilbur Wright
ATTACH;FMTTYPE=image/jpeg:https://news.ccc.edu/app/uploads/CHA-Calendar-Image.jpg
END:VEVENT
BEGIN:VEVENT
DTSTART;TZID=America/Chicago:20241218T100000
DTEND;TZID=America/Chicago:20241218T110000
DTSTAMP:20260419T080040
CREATED:20240829T194113Z
LAST-MODIFIED:20240829T194113Z
UID:10002144-1734516000-1734519600@news.ccc.edu
SUMMARY:Partners in Education Info Session
DESCRIPTION:
URL:https://news.ccc.edu/event/partners-in-education-info-session-34/
CATEGORIES:Harold Washington,Harry S Truman,Kennedy-King,Malcolm X,Olive-Harvey,Richard J. Daley,Wilbur Wright
ATTACH;FMTTYPE=image/jpeg:https://news.ccc.edu/app/uploads/CHA-Calendar-Image.jpg
END:VEVENT
BEGIN:VEVENT
DTSTART;TZID=America/Chicago:20241218T120000
DTEND;TZID=America/Chicago:20241218T130000
DTSTAMP:20260419T080040
CREATED:20240829T194102Z
LAST-MODIFIED:20240829T194102Z
UID:10002143-1734523200-1734526800@news.ccc.edu
SUMMARY:Partners in Education Info Session
DESCRIPTION:
URL:https://news.ccc.edu/event/partners-in-education-info-session-33/
CATEGORIES:Harold Washington,Harry S Truman,Kennedy-King,Malcolm X,Olive-Harvey,Richard J. Daley,Wilbur Wright
ATTACH;FMTTYPE=image/jpeg:https://news.ccc.edu/app/uploads/CHA-Calendar-Image.jpg
END:VEVENT
END:VCALENDAR