BEGIN:VCALENDAR
VERSION:2.0
PRODID:-//CCC - ECPv6.11.2//NONSGML v1.0//EN
CALSCALE:GREGORIAN
METHOD:PUBLISH
X-ORIGINAL-URL:https://news.ccc.edu
X-WR-CALDESC:Events for CCC
REFRESH-INTERVAL;VALUE=DURATION:PT1H
X-Robots-Tag:noindex
X-PUBLISHED-TTL:PT1H
BEGIN:VTIMEZONE
TZID:America/Chicago
BEGIN:DAYLIGHT
TZOFFSETFROM:-0600
TZOFFSETTO:-0500
TZNAME:CDT
DTSTART:20240310T080000
END:DAYLIGHT
BEGIN:STANDARD
TZOFFSETFROM:-0500
TZOFFSETTO:-0600
TZNAME:CST
DTSTART:20241103T070000
END:STANDARD
END:VTIMEZONE
BEGIN:VEVENT
DTSTART;TZID=America/Chicago:20240118T130000
DTEND;TZID=America/Chicago:20240118T150000
DTSTAMP:20260420T024428
CREATED:20240116T224030Z
LAST-MODIFIED:20240116T224030Z
UID:10001047-1705582800-1705590000@news.ccc.edu
SUMMARY:Truman: Stalking Awareness & Resources 
DESCRIPTION:
URL:https://news.ccc.edu/event/truman-stalking-awareness-resources/
CATEGORIES:Harry S Truman
ATTACH;FMTTYPE=image/jpeg:https://news.ccc.edu/app/uploads/Project-SAFE-calendar-image.jpg
END:VEVENT
BEGIN:VEVENT
DTSTART;TZID=America/Chicago:20240125T123000
DTEND;TZID=America/Chicago:20240125T140000
DTSTAMP:20260420T024428
CREATED:20240110T211633Z
LAST-MODIFIED:20240110T211633Z
UID:10000947-1706185800-1706191200@news.ccc.edu
SUMMARY:Wright: Survivor's Manifesto
DESCRIPTION:
URL:https://news.ccc.edu/event/wright-survivors-manifesto/
CATEGORIES:Wilbur Wright
ATTACH;FMTTYPE=image/jpeg:https://news.ccc.edu/app/uploads/Project-SAFE-calendar-image.jpg
END:VEVENT
BEGIN:VEVENT
DTSTART;TZID=America/Chicago:20240131T110000
DTEND;TZID=America/Chicago:20240131T123000
DTSTAMP:20260420T024428
CREATED:20240110T211455Z
LAST-MODIFIED:20240110T211455Z
UID:10000946-1706698800-1706704200@news.ccc.edu
SUMMARY:Daley: Printmaking with Awakening Arts
DESCRIPTION:
URL:https://news.ccc.edu/event/daley-printmaking-with-awakening-arts/
CATEGORIES:Richard J. Daley
ATTACH;FMTTYPE=image/jpeg:https://news.ccc.edu/app/uploads/Project-SAFE-calendar-image.jpg
END:VEVENT
END:VCALENDAR