BEGIN:VCALENDAR
VERSION:2.0
PRODID:-//CCC - ECPv6.11.2//NONSGML v1.0//EN
CALSCALE:GREGORIAN
METHOD:PUBLISH
X-WR-CALNAME:CCC
X-ORIGINAL-URL:https://news.ccc.edu
X-WR-CALDESC:Events for CCC
REFRESH-INTERVAL;VALUE=DURATION:PT1H
X-Robots-Tag:noindex
X-PUBLISHED-TTL:PT1H
BEGIN:VTIMEZONE
TZID:America/Chicago
BEGIN:DAYLIGHT
TZOFFSETFROM:-0600
TZOFFSETTO:-0500
TZNAME:CDT
DTSTART:20260308T080000
END:DAYLIGHT
BEGIN:STANDARD
TZOFFSETFROM:-0500
TZOFFSETTO:-0600
TZNAME:CST
DTSTART:20261101T070000
END:STANDARD
END:VTIMEZONE
BEGIN:VEVENT
DTSTART;TZID=America/Chicago:20260427T100000
DTEND;TZID=America/Chicago:20260427T130000
DTSTAMP:20260425T205135
CREATED:20260316T165731Z
LAST-MODIFIED:20260316T165732Z
UID:10006227-1777284000-1777294800@news.ccc.edu
SUMMARY:Wright: North Park University Table Visit
DESCRIPTION:
URL:https://news.ccc.edu/event/wright-north-park-university-table-visit-6/
CATEGORIES:Wilbur Wright
ATTACH;FMTTYPE=image/png:https://news.ccc.edu/app/uploads/Transfer_Table_Per-College_WW-EigjxM.png
END:VEVENT
BEGIN:VEVENT
DTSTART;TZID=America/Chicago:20260427T100000
DTEND;TZID=America/Chicago:20260427T140000
DTSTAMP:20260425T205135
CREATED:20260410T212328Z
LAST-MODIFIED:20260410T212328Z
UID:10006327-1777284000-1777298400@news.ccc.edu
SUMMARY:Kennedy-King: GradFest Mini-Transfer Fair
DESCRIPTION:
URL:https://news.ccc.edu/event/kennedy-king-gradfest-mini-transfer-fair/
CATEGORIES:Kennedy-King
ATTACH;FMTTYPE=image/png:https://news.ccc.edu/app/uploads/Transfer_Table_Per-College_KK-3lpcNa.png
END:VEVENT
BEGIN:VEVENT
DTSTART;TZID=America/Chicago:20260428T100000
DTEND;TZID=America/Chicago:20260428T130000
DTSTAMP:20260425T205135
CREATED:20260112T223527Z
LAST-MODIFIED:20260112T223528Z
UID:10005689-1777370400-1777381200@news.ccc.edu
SUMMARY:Kennedy-King: Chicago State University Table Visit
DESCRIPTION:
URL:https://news.ccc.edu/event/kennedy-king-chicago-state-university-table-visit-33/
CATEGORIES:Kennedy-King
ATTACH;FMTTYPE=image/png:https://news.ccc.edu/app/uploads/Transfer_Table_Per-College_KK-3lpcNa.png
END:VEVENT
BEGIN:VEVENT
DTSTART;TZID=America/Chicago:20260428T100000
DTEND;TZID=America/Chicago:20260428T130000
DTSTAMP:20260425T205135
CREATED:20260112T223534Z
LAST-MODIFIED:20260112T223535Z
UID:10005690-1777370400-1777381200@news.ccc.edu
SUMMARY:Kennedy-King: Governors State University Table Visit
DESCRIPTION:
URL:https://news.ccc.edu/event/kennedy-king-governors-state-university-table-visit-16/
CATEGORIES:Kennedy-King
ATTACH;FMTTYPE=image/png:https://news.ccc.edu/app/uploads/Transfer_Table_Per-College_KK-3lpcNa.png
END:VEVENT
BEGIN:VEVENT
DTSTART;TZID=America/Chicago:20260428T100000
DTEND;TZID=America/Chicago:20260428T130000
DTSTAMP:20260425T205135
CREATED:20260121T224145Z
LAST-MODIFIED:20260121T224145Z
UID:10005831-1777370400-1777381200@news.ccc.edu
SUMMARY:Olive-Harvey: Mini Transfer Fair - Grad Week Edition
DESCRIPTION:
URL:https://news.ccc.edu/event/olive-harvey-mini-transfer-fair-grad-week-edition/
CATEGORIES:Olive-Harvey
ATTACH;FMTTYPE=image/png:https://news.ccc.edu/app/uploads/Transfer_Per-College_OH-PjSsCL.png
END:VEVENT
BEGIN:VEVENT
DTSTART;TZID=America/Chicago:20260428T100000
DTEND;TZID=America/Chicago:20260428T130000
DTSTAMP:20260425T205135
CREATED:20260316T165723Z
LAST-MODIFIED:20260316T165724Z
UID:10006225-1777370400-1777381200@news.ccc.edu
SUMMARY:Wright: Elmhurst University Table Visit
DESCRIPTION:
URL:https://news.ccc.edu/event/wright-elmhurst-university-table-visit-9/
CATEGORIES:Wilbur Wright
ATTACH;FMTTYPE=image/png:https://news.ccc.edu/app/uploads/Transfer_Table_Per-College_WW-EigjxM.png
END:VEVENT
BEGIN:VEVENT
DTSTART;TZID=America/Chicago:20260428T100000
DTEND;TZID=America/Chicago:20260428T140000
DTSTAMP:20260425T205135
CREATED:20260410T212356Z
LAST-MODIFIED:20260410T212357Z
UID:10006328-1777370400-1777384800@news.ccc.edu
SUMMARY:Kennedy-King: GradFest Mini-Transfer Fair
DESCRIPTION:
URL:https://news.ccc.edu/event/kennedy-king-gradfest-mini-transfer-fair-2/
CATEGORIES:Kennedy-King
ATTACH;FMTTYPE=image/png:https://news.ccc.edu/app/uploads/Transfer_Per-College_KK-JOQYxe.png
END:VEVENT
BEGIN:VEVENT
DTSTART;TZID=America/Chicago:20260428T130000
DTEND;TZID=America/Chicago:20260428T150000
DTSTAMP:20260425T205135
CREATED:20260121T224133Z
LAST-MODIFIED:20260121T224134Z
UID:10005830-1777381200-1777388400@news.ccc.edu
SUMMARY:Kennedy-King: Governors State University Dual Degree Program Table Visit
DESCRIPTION:
URL:https://news.ccc.edu/event/kennedy-king-governors-state-university-dual-degree-program-table-visit-68/
CATEGORIES:Kennedy-King
ATTACH;FMTTYPE=image/png:https://news.ccc.edu/app/uploads/Transfer_Table_Per-College_KK-3lpcNa.png
END:VEVENT
BEGIN:VEVENT
DTSTART;TZID=America/Chicago:20260429T100000
DTEND;TZID=America/Chicago:20260429T130000
DTSTAMP:20260425T205135
CREATED:20260112T223543Z
LAST-MODIFIED:20260112T223544Z
UID:10005691-1777456800-1777467600@news.ccc.edu
SUMMARY:Kennedy-King: National Louis University Table Visit
DESCRIPTION:
URL:https://news.ccc.edu/event/kennedy-king-national-louis-university-table-visit-6/
CATEGORIES:Kennedy-King
ATTACH;FMTTYPE=image/png:https://news.ccc.edu/app/uploads/Transfer_Table_Per-College_KK-3lpcNa.png
END:VEVENT
BEGIN:VEVENT
DTSTART;TZID=America/Chicago:20260429T100000
DTEND;TZID=America/Chicago:20260429T130000
DTSTAMP:20260425T205135
CREATED:20260115T215636Z
LAST-MODIFIED:20260115T215637Z
UID:10005798-1777456800-1777467600@news.ccc.edu
SUMMARY:Kennedy-King: Southern Illinois University Carbondale Table Visit
DESCRIPTION:
URL:https://news.ccc.edu/event/kennedy-king-southern-illinois-university-carbondale-table-visit/
CATEGORIES:Kennedy-King
ATTACH;FMTTYPE=image/png:https://news.ccc.edu/app/uploads/Transfer_Table_Per-College_KK-3lpcNa.png
END:VEVENT
BEGIN:VEVENT
DTSTART;TZID=America/Chicago:20260429T100000
DTEND;TZID=America/Chicago:20260429T130000
DTSTAMP:20260425T205135
CREATED:20260316T165645Z
LAST-MODIFIED:20260316T165646Z
UID:10006224-1777456800-1777467600@news.ccc.edu
SUMMARY:Wright: Northeastern Illinois University Table Visit
DESCRIPTION:
URL:https://news.ccc.edu/event/wright-northeastern-illinois-university-table-visit-15/
CATEGORIES:Wilbur Wright
ATTACH;FMTTYPE=image/png:https://news.ccc.edu/app/uploads/Transfer_Table_Per-College_WW-EigjxM.png
END:VEVENT
BEGIN:VEVENT
DTSTART;TZID=America/Chicago:20260429T100000
DTEND;TZID=America/Chicago:20260429T140000
DTSTAMP:20260425T205135
CREATED:20260410T213924Z
LAST-MODIFIED:20260410T213925Z
UID:10006335-1777456800-1777471200@news.ccc.edu
SUMMARY:Kennedy-King: GradFest Mini-Transfer Fair
DESCRIPTION:
URL:https://news.ccc.edu/event/kennedy-king-gradfest-mini-transfer-fair-3/
CATEGORIES:Kennedy-King
ATTACH;FMTTYPE=image/png:https://news.ccc.edu/app/uploads/Transfer_Table_Per-College_KK-3lpcNa.png
END:VEVENT
BEGIN:VEVENT
DTSTART;TZID=America/Chicago:20260430T100000
DTEND;TZID=America/Chicago:20260430T130000
DTSTAMP:20260425T205135
CREATED:20260316T165632Z
LAST-MODIFIED:20260316T165633Z
UID:10006223-1777543200-1777554000@news.ccc.edu
SUMMARY:Wright: Eastern Illinois University Table Visit
DESCRIPTION:
URL:https://news.ccc.edu/event/wright-eastern-illinois-university-table-visit-6/
CATEGORIES:Wilbur Wright
ATTACH;FMTTYPE=image/png:https://news.ccc.edu/app/uploads/Transfer_Table_Per-College_WW-EigjxM.png
END:VEVENT
BEGIN:VEVENT
DTSTART;TZID=America/Chicago:20260504T100000
DTEND;TZID=America/Chicago:20260504T130000
DTSTAMP:20260425T205135
CREATED:20260113T163220Z
LAST-MODIFIED:20260113T163221Z
UID:10005724-1777888800-1777899600@news.ccc.edu
SUMMARY:Olive-Harvey: University of Illinois Springfield Table Visit
DESCRIPTION:
URL:https://news.ccc.edu/event/olive-harvey-university-of-illinois-springfield-table-visit-2/
CATEGORIES:Olive-Harvey
ATTACH;FMTTYPE=image/png:https://news.ccc.edu/app/uploads/Transfer_Table_Per-College_OH-EAvN2T.png
END:VEVENT
BEGIN:VEVENT
DTSTART;TZID=America/Chicago:20260504T100000
DTEND;TZID=America/Chicago:20260504T130000
DTSTAMP:20260425T205135
CREATED:20260113T163226Z
LAST-MODIFIED:20260113T163226Z
UID:10005725-1777888800-1777899600@news.ccc.edu
SUMMARY:Olive-Harvey: Eastern Illinois University Table Visit
DESCRIPTION:
URL:https://news.ccc.edu/event/olive-harvey-eastern-illinois-university-table-visit-2/
CATEGORIES:Olive-Harvey
ATTACH;FMTTYPE=image/png:https://news.ccc.edu/app/uploads/Transfer_Table_Per-College_OH-EAvN2T.png
END:VEVENT
BEGIN:VEVENT
DTSTART;TZID=America/Chicago:20260504T100000
DTEND;TZID=America/Chicago:20260504T130000
DTSTAMP:20260425T205135
CREATED:20260317T150820Z
LAST-MODIFIED:20260317T150821Z
UID:10006231-1777888800-1777899600@news.ccc.edu
SUMMARY:Wright: Dominican University Table Visit
DESCRIPTION:
URL:https://news.ccc.edu/event/wright-dominican-university-table-visit-15/
CATEGORIES:Wilbur Wright
ATTACH;FMTTYPE=image/png:https://news.ccc.edu/app/uploads/Transfer_Table_Per-College_WW-EigjxM.png
END:VEVENT
BEGIN:VEVENT
DTSTART;TZID=America/Chicago:20260505T100000
DTEND;TZID=America/Chicago:20260505T130000
DTSTAMP:20260425T205135
CREATED:20260112T223554Z
LAST-MODIFIED:20260112T223555Z
UID:10005693-1777975200-1777986000@news.ccc.edu
SUMMARY:Kennedy-King: Eastern Illinois University Table Visit
DESCRIPTION:
URL:https://news.ccc.edu/event/kennedy-king-eastern-illinois-university-table-visit-8/
CATEGORIES:Kennedy-King
ATTACH;FMTTYPE=image/png:https://news.ccc.edu/app/uploads/Transfer_Table_Per-College_KK-3lpcNa.png
END:VEVENT
BEGIN:VEVENT
DTSTART;TZID=America/Chicago:20260505T100000
DTEND;TZID=America/Chicago:20260505T130000
DTSTAMP:20260425T205135
CREATED:20260112T223606Z
LAST-MODIFIED:20260112T223606Z
UID:10005694-1777975200-1777986000@news.ccc.edu
SUMMARY:Kennedy-King: Governors State University Table Visit
DESCRIPTION:
URL:https://news.ccc.edu/event/kennedy-king-governors-state-university-table-visit-17/
CATEGORIES:Kennedy-King
ATTACH;FMTTYPE=image/png:https://news.ccc.edu/app/uploads/Transfer_Table_Per-College_KK-3lpcNa.png
END:VEVENT
BEGIN:VEVENT
DTSTART;TZID=America/Chicago:20260505T100000
DTEND;TZID=America/Chicago:20260505T130000
DTSTAMP:20260425T205135
CREATED:20260113T162428Z
LAST-MODIFIED:20260113T162429Z
UID:10005721-1777975200-1777986000@news.ccc.edu
SUMMARY:Olive-Harvey: Northeastern Illinois University Table Visit
DESCRIPTION:
URL:https://news.ccc.edu/event/olive-harvey-northeastern-illinois-university-table-visit-28/
CATEGORIES:Olive-Harvey
ATTACH;FMTTYPE=image/png:https://news.ccc.edu/app/uploads/Transfer_Table_Per-College_OH-EAvN2T.png
END:VEVENT
BEGIN:VEVENT
DTSTART;TZID=America/Chicago:20260505T100000
DTEND;TZID=America/Chicago:20260505T130000
DTSTAMP:20260425T205135
CREATED:20260113T162549Z
LAST-MODIFIED:20260113T162550Z
UID:10005723-1777975200-1777986000@news.ccc.edu
SUMMARY:Olive-Harvey: Roosevelt University Table Visit
DESCRIPTION:
URL:https://news.ccc.edu/event/olive-harvey-roosevelt-university-table-visit-22/
CATEGORIES:Olive-Harvey
ATTACH;FMTTYPE=image/png:https://news.ccc.edu/app/uploads/Transfer_Table_Per-College_OH-EAvN2T.png
END:VEVENT
BEGIN:VEVENT
DTSTART;TZID=America/Chicago:20260505T100000
DTEND;TZID=America/Chicago:20260505T130000
DTSTAMP:20260425T205135
CREATED:20260113T164142Z
LAST-MODIFIED:20260113T164142Z
UID:10005731-1777975200-1777986000@news.ccc.edu
SUMMARY:Olive-Harvey: Roosevelt University Table Visit
DESCRIPTION:
URL:https://news.ccc.edu/event/olive-harvey-roosevelt-university-table-visit-23/
CATEGORIES:Olive-Harvey
ATTACH;FMTTYPE=image/png:https://news.ccc.edu/app/uploads/Transfer_Table_Per-College_OH-EAvN2T.png
END:VEVENT
BEGIN:VEVENT
DTSTART;TZID=America/Chicago:20260505T100000
DTEND;TZID=America/Chicago:20260505T130000
DTSTAMP:20260425T205135
CREATED:20260317T150742Z
LAST-MODIFIED:20260317T150742Z
UID:10006228-1777975200-1777986000@news.ccc.edu
SUMMARY:Wright: Northeastern Illinois University Table Visit
DESCRIPTION:
URL:https://news.ccc.edu/event/wright-northeastern-illinois-university-table-visit-16/
CATEGORIES:Wilbur Wright
ATTACH;FMTTYPE=image/png:https://news.ccc.edu/app/uploads/Transfer_Table_Per-College_WW-EigjxM.png
END:VEVENT
BEGIN:VEVENT
DTSTART;TZID=America/Chicago:20260505T103000
DTEND;TZID=America/Chicago:20260505T133000
DTSTAMP:20260425T205135
CREATED:20260121T223447Z
LAST-MODIFIED:20260121T223447Z
UID:10005817-1777977000-1777987800@news.ccc.edu
SUMMARY:Kennedy-King: Kendall Culinary College Table Visit
DESCRIPTION:
URL:https://news.ccc.edu/event/kennedy-king-kendall-culinary-college-table-visit-21/
CATEGORIES:Kennedy-King
ATTACH;FMTTYPE=image/png:https://news.ccc.edu/app/uploads/Transfer_Table_Per-College_KK-3lpcNa.png
END:VEVENT
BEGIN:VEVENT
DTSTART;TZID=America/Chicago:20260505T130000
DTEND;TZID=America/Chicago:20260505T140000
DTSTAMP:20260425T205135
CREATED:20260121T223454Z
LAST-MODIFIED:20260121T223455Z
UID:10005818-1777986000-1777989600@news.ccc.edu
SUMMARY:Olive-Harvey: Transfer Scholarship Workshop - Funding Your Next Step
DESCRIPTION:
URL:https://news.ccc.edu/event/olive-harvey-transfer-scholarship-workshop-funding-your-next-step-2/
CATEGORIES:Olive-Harvey
ATTACH;FMTTYPE=image/png:https://news.ccc.edu/app/uploads/Transfer_Per-College_OH-PjSsCL.png
END:VEVENT
BEGIN:VEVENT
DTSTART;TZID=America/Chicago:20260505T130000
DTEND;TZID=America/Chicago:20260505T150000
DTSTAMP:20260425T205135
CREATED:20260121T223433Z
LAST-MODIFIED:20260121T223433Z
UID:10005815-1777986000-1777993200@news.ccc.edu
SUMMARY:Kennedy-King: Governors State University Dual Degree Program Table Visit
DESCRIPTION:
URL:https://news.ccc.edu/event/kennedy-king-governors-state-university-dual-degree-program-table-visit-67/
CATEGORIES:Kennedy-King
ATTACH;FMTTYPE=image/png:https://news.ccc.edu/app/uploads/Transfer_Table_Per-College_KK-3lpcNa.png
END:VEVENT
BEGIN:VEVENT
DTSTART;TZID=America/Chicago:20260505T140000
DTEND;TZID=America/Chicago:20260505T150000
DTSTAMP:20260425T205135
CREATED:20260121T223440Z
LAST-MODIFIED:20260121T223441Z
UID:10005816-1777989600-1777993200@news.ccc.edu
SUMMARY:Olive-Harvey: Transfer Scholarship Workshop - Funding Your Next Step
DESCRIPTION:
URL:https://news.ccc.edu/event/olive-harvey-transfer-scholarship-workshop-funding-your-next-step/
CATEGORIES:Olive-Harvey
ATTACH;FMTTYPE=image/png:https://news.ccc.edu/app/uploads/Transfer_Per-College_OH-PjSsCL.png
END:VEVENT
BEGIN:VEVENT
DTSTART;TZID=America/Chicago:20260506T100000
DTEND;TZID=America/Chicago:20260506T130000
DTSTAMP:20260425T205135
CREATED:20260112T223608Z
LAST-MODIFIED:20260112T223608Z
UID:10005695-1778061600-1778072400@news.ccc.edu
SUMMARY:Kennedy-King: Chicago State University Table Visit
DESCRIPTION:
URL:https://news.ccc.edu/event/kennedy-king-chicago-state-university-table-visit-34/
CATEGORIES:Kennedy-King
ATTACH;FMTTYPE=image/png:https://news.ccc.edu/app/uploads/Transfer_Table_Per-College_KK-3lpcNa.png
END:VEVENT
BEGIN:VEVENT
DTSTART;TZID=America/Chicago:20260506T100000
DTEND;TZID=America/Chicago:20260506T130000
DTSTAMP:20260425T205135
CREATED:20260112T223620Z
LAST-MODIFIED:20260112T223621Z
UID:10005696-1778061600-1778072400@news.ccc.edu
SUMMARY:Kennedy-King: Northeastern Illinois University CCICS Table Visit
DESCRIPTION:
URL:https://news.ccc.edu/event/kennedy-king-northeastern-illinois-university-ccics-table-visit-9/
CATEGORIES:Kennedy-King
ATTACH;FMTTYPE=image/png:https://news.ccc.edu/app/uploads/Transfer_Table_Per-College_KK-3lpcNa.png
END:VEVENT
BEGIN:VEVENT
DTSTART;TZID=America/Chicago:20260506T100000
DTEND;TZID=America/Chicago:20260506T130000
DTSTAMP:20260425T205135
CREATED:20260113T162008Z
LAST-MODIFIED:20260113T162008Z
UID:10005716-1778061600-1778072400@news.ccc.edu
SUMMARY:Olive-Harvey: National Louis University Table Visit
DESCRIPTION:
URL:https://news.ccc.edu/event/olive-harvey-national-louis-university-table-visit-50/
CATEGORIES:Olive-Harvey
ATTACH;FMTTYPE=image/png:https://news.ccc.edu/app/uploads/Transfer_Table_Per-College_OH-EAvN2T.png
END:VEVENT
BEGIN:VEVENT
DTSTART;TZID=America/Chicago:20260506T100000
DTEND;TZID=America/Chicago:20260506T130000
DTSTAMP:20260425T205135
CREATED:20260113T162213Z
LAST-MODIFIED:20260113T162214Z
UID:10005720-1778061600-1778072400@news.ccc.edu
SUMMARY:Olive-Harvey: National Louis University Table Visit
DESCRIPTION:
URL:https://news.ccc.edu/event/olive-harvey-national-louis-university-table-visit-51/
CATEGORIES:Olive-Harvey
ATTACH;FMTTYPE=image/png:https://news.ccc.edu/app/uploads/Transfer_Table_Per-College_OH-EAvN2T.png
END:VEVENT
END:VCALENDAR